BEGIN:VCALENDAR
VERSION:2.0
PRODID:DPCALENDAR
CALSCALE:GREGORIAN
X-WR-TIMEZONE:UTC
BEGIN:VEVENT
DTSTART:20250817T073000Z
DTEND:20250817T090000Z
UID:e8783addd07c3948cf7e423e2d51f44a
SUMMARY:Morgendienst: ds. J.L. de Jong (Soest)
DTSTAMP:20260421T084905Z
DESCRIPTION:
X-ALT-DESC;FMTTYPE=text/html:
X-ACCESS:1
X-MODIFIED:20260421T084905Z
X-HITS:0
X-URL:
X-COLOR:
END:VEVENT
END:VCALENDAR