BEGIN:VCALENDAR
VERSION:2.0
PRODID:DPCALENDAR
CALSCALE:GREGORIAN
X-WR-TIMEZONE:UTC
BEGIN:VEVENT
DTSTART:20200209T083000Z
DTEND:20200209T100000Z
UID:2c0789b9e361f744a3b4eb2a7c8b26ad
SUMMARY:Morgendienst: ds. W.N. Middelkoop (Harderwijk)
DTSTAMP:20260422T170737Z
DESCRIPTION:
X-ALT-DESC;FMTTYPE=text/html:
X-ACCESS:1
X-MODIFIED:20260422T170737Z
X-HITS:0
X-URL:
X-COLOR:
END:VEVENT
END:VCALENDAR