BEGIN:VCALENDAR
VERSION:2.0
PRODID:DPCALENDAR
CALSCALE:GREGORIAN
X-WR-TIMEZONE:UTC
BEGIN:VEVENT
DTSTART:20251007T170000Z
DTEND:20251007T174500Z
UID:04ccaa275317d12cb0e8040d431956c7
RECURRENCE-ID:20251007T170000Z
SUMMARY:Catechisatie groep 1
DTSTAMP:20260421T084746Z
DESCRIPTION:
X-ALT-DESC;FMTTYPE=text/html:
X-ACCESS:1
X-MODIFIED:20260421T084746Z
X-HITS:0
X-URL:
X-COLOR:
END:VEVENT
END:VCALENDAR