BEGIN:VCALENDAR
VERSION:2.0
PRODID:DPCALENDAR
CALSCALE:GREGORIAN
X-WR-TIMEZONE:UTC
BEGIN:VEVENT
DTSTART:20240915T140000Z
DTEND:20240915T153000Z
UID:39f023236ec1b5b649bdf323d03ac655
SUMMARY:Bijbelklas
DTSTAMP:20260422T102233Z
DESCRIPTION:
X-ALT-DESC;FMTTYPE=text/html:
X-ACCESS:1
X-MODIFIED:20260422T102233Z
X-HITS:0
X-URL:
X-COLOR:
END:VEVENT
END:VCALENDAR