BEGIN:VCALENDAR
VERSION:2.0
PRODID:DPCALENDAR
CALSCALE:GREGORIAN
X-WR-TIMEZONE:UTC
BEGIN:VEVENT
DTSTART:20250511T073000Z
DTEND:20250511T090000Z
UID:70c2fb08f7bdbe5a1e89ea2601937e50
SUMMARY:Morgendienst:: ds. J.A. de Kok (Utrecht-West)
DTSTAMP:20260421T083956Z
DESCRIPTION:
X-ALT-DESC;FMTTYPE=text/html:
X-ACCESS:1
X-MODIFIED:20260421T083956Z
X-HITS:0
X-URL:
X-COLOR:
END:VEVENT
END:VCALENDAR